BEGIN:VCALENDAR
VERSION:2.0
PRODID:-//Posidonia Events/Calendar//EN
BEGIN:VEVENT
SUMMARY:The Future of Shipping Finance: Outsourcing\, Tax Efficiency & Glo
 bal Compliance
DTSTART;TZID=UTC;VALUE=DATE-TIME:20260603T114500Z
DTEND;TZID=UTC;VALUE=DATE-TIME:20260603T133000Z
DESCRIPTION:NEPA Economic Consulting
LOCATION:Posidonia Seminar Room 2A
ORGANIZER:MAILTO:a.dromousis@nepa.gr
END:VEVENT
END:VCALENDAR
