BEGIN:VCALENDAR
VERSION:2.0
PRODID:-//Posidonia Events/Calendar//EN
BEGIN:VEVENT
SUMMARY:Knowledge at the Helm: Leveraging the iManage Knowledge Work Platf
 orm for AI-Driven Compliance and Document Intelligence in Shipping
DTSTART;TZID=UTC;VALUE=DATE-TIME:20260605T114500Z
DTEND;TZID=UTC;VALUE=DATE-TIME:20260605T133000Z
DESCRIPTION:Digivalue M IKE - Provision of ΙΤ & Compliance Services
LOCATION:Posidonia Seminar Room 2B – Sponsored by ADMIRALTY
ORGANIZER:MAILTO:michalis.vlachakis@digivalue.eu
END:VEVENT
END:VCALENDAR
