BEGIN:VCALENDAR
VERSION:2.0
PRODID:-//Posidonia Events/Calendar//EN
BEGIN:VEVENT
SUMMARY:Maritime Innovation Outlook: Resilience and Future Readiness
DTSTART;TZID=UTC;VALUE=DATE-TIME:20260605T094500Z
DTEND;TZID=UTC;VALUE=DATE-TIME:20260605T113000Z
DESCRIPTION:Imperial College London
LOCATION:Posidonia Seminar Room 1B
ORGANIZER:MAILTO:e.katsou@imperial.ac.uk
ORGANIZER:MAILTO:i.giannakeas19@imperial.ac.uk
END:VEVENT
END:VCALENDAR
