BEGIN:VCALENDAR
VERSION:2.0
PRODID:-//Posidonia Events/Calendar//EN
BEGIN:VEVENT
SUMMARY:Xinde Marine Forum Athens 2026 - by invitation only
DTSTART;TZID=UTC;VALUE=DATE-TIME:20260603T100000Z
DTEND;TZID=UTC;VALUE=DATE-TIME:20260603T153000Z
DESCRIPTION:Xinde Marine News
LOCATION:PPA S.A. Event Hall
ORGANIZER:MAILTO:event@xindemarine.com
END:VEVENT
END:VCALENDAR
