BEGIN:VCALENDAR
VERSION:2.0
PRODID:-//Posidonia Events/Calendar//EN
BEGIN:VEVENT
SUMMARY:Presentation/ Seminar
DTSTART;TZID=UTC;VALUE=DATE-TIME:20260603T114500Z
DTEND;TZID=UTC;VALUE=DATE-TIME:20260603T133000Z
DESCRIPTION:RINA Hellas
LOCATION:Posidonia Seminar Room 1A
ORGANIZER:MAILTO:mina.champip@rina.org
END:VEVENT
END:VCALENDAR
