BEGIN:VCALENDAR
VERSION:2.0
PRODID:-//Posidonia Events/Calendar//EN
BEGIN:VEVENT
SUMMARY:Energy Security and Critical Infrastructure in the Baltic and Medi
 terranean Maritime Space - Mutual Risk\, Mutual Resilience
DTSTART;TZID=UTC;VALUE=DATE-TIME:20260602T073000Z
DTEND;TZID=UTC;VALUE=DATE-TIME:20260602T093000Z
DESCRIPTION:Embassy of the Republic of Poland in Athens under the auspices
  of the Ministry of Foreign Affairs of the Republic of Poland within the f
 ramework of Poland’s presidency of the Council of the Baltic Sea
LOCATION:Posidonia Seminar Room Central
ORGANIZER:MAILTO:events.athens@msz.gov.pl
END:VEVENT
END:VCALENDAR
